BEGIN:VCALENDAR
VERSION:2.0
PRODID:-//https://www.lecze-salezjanie.pl///DJ-Events//EN
BEGIN:VEVENT
SUMMARY:O dary Bożej Miłości, zdrowie dla Zofii i Stanisława Danilewicz
UID:449@https://www.lecze-salezjanie.pl/
DTSTART:20220515T090000
DTEND:20220515T090000
DTSTAMP:20260422T123208
CATEGORIES:Msza święta
LOCATION:Suchacz 82-340 Kielecka 14
GEO:54.2856461944789;19.44132685661316
DESCRIPTION:
URL:https://www.lecze-salezjanie.pl//component/djevents/details/2022-05-15/449-o-dary-bozej-milosci-zdrowie-dla-zofii-i-stanislawa-danilewicz
END:VEVENT
END:VCALENDAR
