BEGIN:VCALENDAR
VERSION:2.0
PRODID:-//https://www.lecze-salezjanie.pl///DJ-Events//EN
BEGIN:VEVENT
SUMMARY:+ Feliks Milczarek - w 5 rocznicę śmierci oraz Waldemar Milczarek i zmarli z rodziny Milczarków i Nagornych
UID:451@https://www.lecze-salezjanie.pl/
DTSTART:20220515T120000
DTEND:20220515T120000
DTSTAMP:20260422T123114
CATEGORIES:Msza święta
LOCATION:Kamionek Wielki 82-340 Kamionek Wielki 5
GEO:54.262029131955885;19.404954271163948
DESCRIPTION:
URL:https://www.lecze-salezjanie.pl//component/djevents/details/2022-05-15/451-feliks-milczarek-w-5-rocznice-smierci-oraz-waldemar-milczarek-i-zmarli-z-rodziny-milczarkow-i-nagornych
END:VEVENT
END:VCALENDAR
