BEGIN:VCALENDAR
VERSION:2.0
PRODID:-//https://www.lecze-salezjanie.pl///DJ-Events//EN
BEGIN:VEVENT
SUMMARY:+ Anna Zalewska - w 1 miesiąc po śmierci
UID:528@https://www.lecze-salezjanie.pl/
DTSTART:20220515T090000
DTEND:20220515T090000
DTSTAMP:20260422T123116
CATEGORIES:Msza święta
LOCATION:Łęcze 82-340 Łęcze 48
GEO:54.2700545652713;19.468870040475466
DESCRIPTION:
URL:https://www.lecze-salezjanie.pl//component/djevents/details/2022-05-15/528-anna-zalewska-w-1-miesiac-po-smierci
END:VEVENT
END:VCALENDAR
