BEGIN:VCALENDAR
VERSION:2.0
PRODID:-//https://www.lecze-salezjanie.pl///DJ-Events//EN
BEGIN:VEVENT
SUMMARY:O zdrowie, Boże Błogosławieństwo i opiekę Matki Bożej dla Kamila Kowalskiego
UID:597@https://www.lecze-salezjanie.pl/
DTSTART:20220515T120000
DTEND:20220515T120000
DTSTAMP:20260422T123154
CATEGORIES:Msza święta
LOCATION:Kamionek Wielki 82-340 Kamionek Wielki 5
GEO:54.262029131955885;19.404954271163948
DESCRIPTION:
URL:https://www.lecze-salezjanie.pl//component/djevents/details/2022-05-15/597-o-zdrowie-boze-blogoslawienstwo-i-opieke-matki-bozej-dla-kamila-kowalskiego
END:VEVENT
END:VCALENDAR
