BEGIN:VCALENDAR
VERSION:2.0
PRODID:-//https://www.lecze-salezjanie.pl///DJ-Events//EN
BEGIN:VEVENT
SUMMARY:+ Jadwiga Dołgoruki i za zmarłych z rodziny Downarów i Dołgorukich
UID:211@https://www.lecze-salezjanie.pl/
DTSTART:20220522T090000
DTEND:20220522T090000
DTSTAMP:20260422T110426
CATEGORIES:Msza święta
LOCATION:Łęcze 82-340 Łęcze 48
GEO:54.2700545652713;19.468870040475466
DESCRIPTION:
URL:https://www.lecze-salezjanie.pl//component/djevents/details/2022-05-22/211-jadwiga-dolgoruki-i-za-zmarlych-z-rodziny-downorow-i-dolgorukich
END:VEVENT
END:VCALENDAR
