BEGIN:VCALENDAR
VERSION:2.0
PRODID:-//https://www.lecze-salezjanie.pl///DJ-Events//EN
BEGIN:VEVENT
SUMMARY:W intencji Koła Żywego Różańca
UID:598@https://www.lecze-salezjanie.pl/
DTSTART:20220522T103000
DTEND:20220522T103000
DTSTAMP:20260422T110345
CATEGORIES:Msza święta
LOCATION:Suchacz 82-340 Kielecka 14
GEO:54.2856461944789;19.44132685661316
DESCRIPTION:
URL:https://www.lecze-salezjanie.pl//component/djevents/details/2022-05-22/598-w-intencji-kola-zywego-rozanca-1
END:VEVENT
END:VCALENDAR
