BEGIN:VCALENDAR
VERSION:2.0
PRODID:-//https://www.lecze-salezjanie.pl///DJ-Events//EN
BEGIN:VEVENT
SUMMARY:Spowiedź rocznicowa
UID:607@https://www.lecze-salezjanie.pl/
DTSTART:20220528T100000
DTEND:20220528T100000
DTSTAMP:20260422T105843
CATEGORIES:Nabożeństwo
LOCATION:Łęcze 82-340 Łęcze 48
GEO:54.2700545652713;19.468870040475466
DESCRIPTION:
URL:https://www.lecze-salezjanie.pl//component/djevents/details/2022-05-28/607-spowiedz-rocznicowa
END:VEVENT
END:VCALENDAR
