BEGIN:VCALENDAR
VERSION:2.0
PRODID:-//https://www.lecze-salezjanie.pl///DJ-Events//EN
BEGIN:VEVENT
SUMMARY:Rocznica I Komunii świętej
UID:220@https://www.lecze-salezjanie.pl/
DTSTART:20220529T120000
DTEND:20220529T120000
DTSTAMP:20260420T094529
CATEGORIES:Msza święta
LOCATION:Łęcze 82-340 Łęcze 48
GEO:54.2700545652713;19.468870040475466
DESCRIPTION:
URL:https://www.lecze-salezjanie.pl//component/djevents/details/2022-05-29/220-rocznica-i-komunii-swietej
END:VEVENT
END:VCALENDAR
