BEGIN:VCALENDAR
VERSION:2.0
PRODID:-//https://www.lecze-salezjanie.pl///DJ-Events//EN
BEGIN:VEVENT
SUMMARY:Nabożeństwo Majowe
UID:551@https://www.lecze-salezjanie.pl/
DTSTART:20220529T094500
DTEND:20220529T094500
DTSTAMP:20260420T094328
CATEGORIES:Nabożeństwo
LOCATION:Łęcze 82-340 Łęcze 48
GEO:54.2700545652713;19.468870040475466
DESCRIPTION:
URL:https://www.lecze-salezjanie.pl//component/djevents/details/2022-05-29/551-nabozenstwo-majowe
END:VEVENT
END:VCALENDAR
