BEGIN:VCALENDAR
VERSION:2.0
PRODID:-//https://www.lecze-salezjanie.pl///DJ-Events//EN
BEGIN:VEVENT
SUMMARY:+ Halina, Kazimierz i Ludwik
UID:573@https://www.lecze-salezjanie.pl/
DTSTART:20220529T120000
DTEND:20220529T120000
DTSTAMP:20260420T094530
CATEGORIES:Msza święta
LOCATION:Kamionek Wielki 82-340 Kamionek Wielki 5
GEO:54.262029131955885;19.404954271163948
DESCRIPTION:
URL:https://www.lecze-salezjanie.pl//component/djevents/details/2022-05-29/573-halina-kazimierz-i-ludwik
END:VEVENT
END:VCALENDAR
