BEGIN:VCALENDAR
VERSION:2.0
PRODID:-//https://www.lecze-salezjanie.pl///DJ-Events//EN
BEGIN:VEVENT
SUMMARY:+ Jadwiga Pięknik - w 27 rocznicę śmierci i Grzegorz Pięknik - w 3 rocznicę śmierci, zmarli z rodziny Pięknik i Stokłosińskich
UID:615@https://www.lecze-salezjanie.pl/
DTSTART:20220529T090000
DTEND:20220529T090000
DTSTAMP:20260420T100322
CATEGORIES:Msza święta
LOCATION:Suchacz 82-340 Kielecka 14
GEO:54.2856461944789;19.44132685661316
DESCRIPTION:
URL:https://www.lecze-salezjanie.pl//component/djevents/details/2022-05-29/615-jadwiga-pieknik-w-27-rocznice-smierci-i-grzegorz-pieknik-w-3-rocznice-smierci-zmarli-z-rodziny-pieknik-i-stoklosinskich
END:VEVENT
END:VCALENDAR
