BEGIN:VCALENDAR
VERSION:2.0
PRODID:-//https://www.lecze-salezjanie.pl///DJ-Events//EN
BEGIN:VEVENT
SUMMARY:Nabożeństwo Majowe
UID:552@https://www.lecze-salezjanie.pl/
DTSTART:20220530T173000
DTEND:20220530T173000
DTSTAMP:20260420T094445
CATEGORIES:Nabożeństwo
LOCATION:Łęcze 82-340 Łęcze 48
GEO:54.2700545652713;19.468870040475466
DESCRIPTION:
URL:https://www.lecze-salezjanie.pl//component/djevents/details/2022-05-30/552-nabozenstwo-majowe-1
END:VEVENT
END:VCALENDAR
