BEGIN:VCALENDAR
VERSION:2.0
PRODID:-//https://www.lecze-salezjanie.pl///DJ-Events//EN
BEGIN:VEVENT
SUMMARY:Nabożeństwo Majowe
UID:554@https://www.lecze-salezjanie.pl/
DTSTART:20220530T163000
DTEND:20220530T163000
DTSTAMP:20260420T094441
CATEGORIES:Nabożeństwo
LOCATION:Suchacz 82-340 Kielecka 14
GEO:54.2856461944789;19.44132685661316
DESCRIPTION:
URL:https://www.lecze-salezjanie.pl//component/djevents/details/2022-05-30/554-nabozenstwo-majowe-2
END:VEVENT
END:VCALENDAR
