BEGIN:VCALENDAR
VERSION:2.0
PRODID:-//https://www.lecze-salezjanie.pl///DJ-Events//EN
BEGIN:VEVENT
SUMMARY:O dary Bożej Miłości i opiekę Matki Bożej dla księdza Janusza w dniu urodzin
UID:454@https://www.lecze-salezjanie.pl/
DTSTART:20220531T170000
DTEND:20220531T170000
DTSTAMP:20260420T100359
CATEGORIES:Msza święta
LOCATION:Suchacz 82-340 Kielecka 14
GEO:54.2856461944789;19.44132685661316
DESCRIPTION:
URL:https://www.lecze-salezjanie.pl//component/djevents/details/2022-05-31/454-o-dary-bozej-milosci-i-opieke-matki-bozej-dla-ksiedza-janusza-w-dniu-urodzin
END:VEVENT
END:VCALENDAR
