BEGIN:VCALENDAR
VERSION:2.0
PRODID:-//https://www.lecze-salezjanie.pl///DJ-Events//EN
BEGIN:VEVENT
SUMMARY:+ Łukasz - w 19 rocznicę śmierci
UID:456@https://www.lecze-salezjanie.pl/
DTSTART:20220605T103000
DTEND:20220605T103000
DTSTAMP:20260420T081652
CATEGORIES:Msza święta
LOCATION:Suchacz 82-340 Kielecka 14
GEO:54.2856461944789;19.44132685661316
DESCRIPTION:
URL:https://www.lecze-salezjanie.pl//component/djevents/details/2022-06-05/456-lukasz-w-19-rocznice-smierci
END:VEVENT
END:VCALENDAR
