BEGIN:VCALENDAR
VERSION:2.0
PRODID:-//https://www.lecze-salezjanie.pl///DJ-Events//EN
BEGIN:VEVENT
SUMMARY:+ Teresa Paliwoda - Msza święta Gregoriańska (9)
UID:232@https://www.lecze-salezjanie.pl/
DTSTART:20220609T170000
DTEND:20220609T170000
DTSTAMP:20260420T081751
CATEGORIES:Msza święta
LOCATION:Suchacz 82-340 Kielecka 14
GEO:54.2856461944789;19.44132685661316
DESCRIPTION:
URL:https://www.lecze-salezjanie.pl//component/djevents/details/2022-06-09/232-teresa-paliwoda-msza-swieta-gregorianska-9
END:VEVENT
END:VCALENDAR
