BEGIN:VCALENDAR
VERSION:2.0
PRODID:-//https://www.lecze-salezjanie.pl///DJ-Events//EN
BEGIN:VEVENT
SUMMARY:+ Jerzy Lica - w 3 rocznicę śmierci
UID:235@https://www.lecze-salezjanie.pl/
DTSTART:20220612T120000
DTEND:20220612T120000
DTSTAMP:20260420T070451
CATEGORIES:Msza święta
LOCATION:Łęcze 82-340 Łęcze 48
GEO:54.2700545652713;19.468870040475466
DESCRIPTION:
URL:https://www.lecze-salezjanie.pl//component/djevents/details/2022-06-12/235-jerzy-lica-w-3-rocznice-smierci
END:VEVENT
END:VCALENDAR
