BEGIN:VCALENDAR
VERSION:2.0
PRODID:-//https://www.lecze-salezjanie.pl///DJ-Events//EN
BEGIN:VEVENT
SUMMARY:+ Mieczysław Luzar - w 1 rocznicę śmierci, Stanisław i Julianna Luzar, Antoni i Henryka Walczyna
UID:458@https://www.lecze-salezjanie.pl/
DTSTART:20220612T103000
DTEND:20220612T103000
DTSTAMP:20260420T071223
CATEGORIES:Msza święta
LOCATION:Suchacz 82-340 Kielecka 14
GEO:54.2856461944789;19.44132685661316
DESCRIPTION:
URL:https://www.lecze-salezjanie.pl//component/djevents/details/2022-06-12/458-mieczyslaw-luzar-w-1-rocznice-smierci-stanislaw-i-julianna-luzar-antoni-i-henryka-walczyna
END:VEVENT
END:VCALENDAR
