BEGIN:VCALENDAR
VERSION:2.0
PRODID:-//https://www.lecze-salezjanie.pl///DJ-Events//EN
BEGIN:VEVENT
SUMMARY:O dary Bożej Miłości, zdrowie, opiekę Matki Bożej dla Janiny z okazji imienin
UID:237@https://www.lecze-salezjanie.pl/
DTSTART:20220613T180000
DTEND:20220613T180000
DTSTAMP:20260420T071223
CATEGORIES:Msza święta
LOCATION:Łęcze 82-340 Łęcze 48
GEO:54.2700545652713;19.468870040475466
DESCRIPTION:
URL:https://www.lecze-salezjanie.pl//component/djevents/details/2022-06-13/237-o-dary-bozej-milosci-zdrowie-opieke-matki-bozej-dla-janiny-z-okazji-imienin
END:VEVENT
END:VCALENDAR
