BEGIN:VCALENDAR
VERSION:2.0
PRODID:-//https://www.lecze-salezjanie.pl///DJ-Events//EN
BEGIN:VEVENT
SUMMARY:+ Grzegorz Podlaszewski - od Stanisława i Zofii Durda z rodziną z Wojkowa
UID:626@https://www.lecze-salezjanie.pl/
DTSTART:20220615T180000
DTEND:20220615T180000
DTSTAMP:20260420T071223
CATEGORIES:Msza święta
LOCATION:Łęcze 82-340 Łęcze 48
GEO:54.2700545652713;19.468870040475466
DESCRIPTION:
URL:https://www.lecze-salezjanie.pl//component/djevents/details/2022-06-15/626-grzegorz-podlaszewski-od-stanislawa-i-zofii-durda-z-rodzina-z-wojkowa
END:VEVENT
END:VCALENDAR
