BEGIN:VCALENDAR
VERSION:2.0
PRODID:-//https://www.lecze-salezjanie.pl///DJ-Events//EN
BEGIN:VEVENT
SUMMARY:O Boże Błogosławieństwo i potrzebne łaski dla Doroty, Przemysława Serkis i ich Rodziny z okazji rocznicy ślubu
UID:635@https://www.lecze-salezjanie.pl/
DTSTART:20220617T180000
DTEND:20220617T180000
DTSTAMP:20260420T071253
CATEGORIES:Msza święta
LOCATION:Łęcze 82-340 Łęcze 48
GEO:54.2700545652713;19.468870040475466
DESCRIPTION:
URL:https://www.lecze-salezjanie.pl//component/djevents/details/2022-06-17/635-o-boze-blogoslawienstwo-i-potrzebne-laski-dla-doroty-przemyslawa-serkis-i-ich-rodziny-z-okazji-rocznicy-slubu
END:VEVENT
END:VCALENDAR
