BEGIN:VCALENDAR
VERSION:2.0
PRODID:-//https://www.lecze-salezjanie.pl///DJ-Events//EN
BEGIN:VEVENT
SUMMARY:+ Władysław Kwaśny i zmarli rodzice z obojga stron, zmarłe rodzeństwo
UID:243@https://www.lecze-salezjanie.pl/
DTSTART:20220618T180000
DTEND:20220618T180000
DTSTAMP:20260420T071253
CATEGORIES:Msza święta
LOCATION:Łęcze 82-340 Łęcze 48
GEO:54.2700545652713;19.468870040475466
DESCRIPTION:
URL:https://www.lecze-salezjanie.pl//component/djevents/details/2022-06-18/243-wladyslaw-kwasny-i-zmarli-rodzice-z-obojga-stron-zmarle-rodzenstwo
END:VEVENT
END:VCALENDAR
