BEGIN:VCALENDAR
VERSION:2.0
PRODID:-//https://www.lecze-salezjanie.pl///DJ-Events//EN
BEGIN:VEVENT
SUMMARY:+ Mieczysław Zalewski - w 6 rocznicę śmierci
UID:246@https://www.lecze-salezjanie.pl/
DTSTART:20220619T090000
DTEND:20220619T090000
DTSTAMP:20260420T054116
CATEGORIES:Msza święta
LOCATION:Łęcze 82-340 Łęcze 48
GEO:54.2700545652713;19.468870040475466
DESCRIPTION:
URL:https://www.lecze-salezjanie.pl//component/djevents/details/2022-06-19/246-mieczyslaw-zalewski-w-6-rocznice-smierci
END:VEVENT
END:VCALENDAR
