BEGIN:VCALENDAR
VERSION:2.0
PRODID:-//https://www.lecze-salezjanie.pl///DJ-Events//EN
BEGIN:VEVENT
SUMMARY:+ Janina Szczepańska - w 1 rocznicę śmierci oraz Józef Szczepański
UID:525@https://www.lecze-salezjanie.pl/
DTSTART:20220619T103000
DTEND:20220619T103000
DTSTAMP:20260420T054412
CATEGORIES:Msza święta
LOCATION:Suchacz 82-340 Kielecka 14
GEO:54.2856461944789;19.44132685661316
DESCRIPTION:
URL:https://www.lecze-salezjanie.pl//component/djevents/details/2022-06-19/525-janina-szczepanska-w-1-rocznice-smierci-oraz-jozef-szczepanski
END:VEVENT
END:VCALENDAR
