BEGIN:VCALENDAR
VERSION:2.0
PRODID:-//https://www.lecze-salezjanie.pl///DJ-Events//EN
BEGIN:VEVENT
SUMMARY:+ Rafał Rakowski - w 6 rocznicę śmierci i Barbara Rakowska
UID:575@https://www.lecze-salezjanie.pl/
DTSTART:20220619T090000
DTEND:20220619T090000
DTSTAMP:20260420T054132
CATEGORIES:Msza święta
LOCATION:Suchacz 82-340 Kielecka 14
GEO:54.2856461944789;19.44132685661316
DESCRIPTION:
URL:https://www.lecze-salezjanie.pl//component/djevents/details/2022-06-19/575-rafal-rakowski-w-6-rocznice-smierci-i-barbara-rakowska
END:VEVENT
END:VCALENDAR
