BEGIN:VCALENDAR
VERSION:2.0
PRODID:-//https://www.lecze-salezjanie.pl///DJ-Events//EN
BEGIN:VEVENT
SUMMARY:+ Danuta Hornof - w 6 rocznicę śmierci i za zmarłych z rodziny
UID:599@https://www.lecze-salezjanie.pl/
DTSTART:20220619T120000
DTEND:20220619T120000
DTSTAMP:20260420T054512
CATEGORIES:Msza święta
LOCATION:Kamionek Wielki 82-340 Kamionek Wielki 5
GEO:54.262029131955885;19.404954271163948
DESCRIPTION:
URL:https://www.lecze-salezjanie.pl//component/djevents/details/2022-06-19/599-danuta-hornof-w-6-rocznice-smierci-i-za-zmarlych-z-rodziny
END:VEVENT
END:VCALENDAR
