BEGIN:VCALENDAR
VERSION:2.0
PRODID:-//https://www.lecze-salezjanie.pl///DJ-Events//EN
BEGIN:VEVENT
SUMMARY:O zdrowie, Boże Błogosławieństwo i opiekę Matki Bożej dla Kamila Kowalskiego
UID:636@https://www.lecze-salezjanie.pl/
DTSTART:20220621T170000
DTEND:20220621T170000
DTSTAMP:20260420T054550
CATEGORIES:Msza święta
LOCATION:Suchacz 82-340 Kielecka 14
GEO:54.2856461944789;19.44132685661316
DESCRIPTION:
URL:https://www.lecze-salezjanie.pl//component/djevents/details/2022-06-21/636-o-zdrowie-boze-blogoslawienstwo-i-opieke-matki-bozej-dla-kamila-kowalskiego-1
END:VEVENT
END:VCALENDAR
