BEGIN:VCALENDAR
VERSION:2.0
PRODID:-//https://www.lecze-salezjanie.pl///DJ-Events//EN
BEGIN:VEVENT
SUMMARY:+ Janina i Antoni Kępka - z okazji imienin
UID:250@https://www.lecze-salezjanie.pl/
DTSTART:20220622T180000
DTEND:20220622T180000
DTSTAMP:20260420T054512
CATEGORIES:Msza święta
LOCATION:Łęcze 82-340 Łęcze 48
GEO:54.2700545652713;19.468870040475466
DESCRIPTION:
URL:https://www.lecze-salezjanie.pl//component/djevents/details/2022-06-22/250-janina-i-antoni-kepka-z-okazji-imienin
END:VEVENT
END:VCALENDAR
