BEGIN:VCALENDAR
VERSION:2.0
PRODID:-//https://www.lecze-salezjanie.pl///DJ-Events//EN
BEGIN:VEVENT
SUMMARY:+ Jan Suzinowicz, Jan Pawlak, Jan Homań
UID:460@https://www.lecze-salezjanie.pl/
DTSTART:20220623T170000
DTEND:20220623T170000
DTSTAMP:20260420T054116
CATEGORIES:Msza święta
LOCATION:Suchacz 82-340 Kielecka 14
GEO:54.2856461944789;19.44132685661316
DESCRIPTION:
URL:https://www.lecze-salezjanie.pl//component/djevents/details/2022-06-23/460-jan-suzinowicz-jan-pawlak-jan-homan
END:VEVENT
END:VCALENDAR
