BEGIN:VCALENDAR
VERSION:2.0
PRODID:-//https://www.lecze-salezjanie.pl///DJ-Events//EN
BEGIN:VEVENT
SUMMARY:O Boże Błogosławieństwo, opiekę Matki Bożej, zdrowie, potrzebne łaski z racji urodzin Reginy Suzinowicz
UID:461@https://www.lecze-salezjanie.pl/
DTSTART:20220626T090000
DTEND:20220626T090000
DTSTAMP:20260420T054826
CATEGORIES:Msza święta
LOCATION:Suchacz 82-340 Kielecka 14
GEO:54.2856461944789;19.44132685661316
DESCRIPTION:
URL:https://www.lecze-salezjanie.pl//component/djevents/details/2022-06-26/461-o-boze-blogoslawienstwo-opieke-matki-bozej-zdrowie-potrzebne-laski-z-racji-urodzin-reginy-suzinowicz
END:VEVENT
END:VCALENDAR
