BEGIN:VCALENDAR
VERSION:2.0
PRODID:-//https://www.lecze-salezjanie.pl///DJ-Events//EN
BEGIN:VEVENT
SUMMARY:+ Emilia Wilk - w 13 rocznicę śmierci
UID:600@https://www.lecze-salezjanie.pl/
DTSTART:20220626T120000
DTEND:20220626T120000
DTSTAMP:20260420T035716
CATEGORIES:Msza święta
LOCATION:Kamionek Wielki 82-340 Kamionek Wielki 5
GEO:54.262029131955885;19.404954271163948
DESCRIPTION:
URL:https://www.lecze-salezjanie.pl//component/djevents/details/2022-06-26/600-emilia-wilk-w-13-rocznice-smierci
END:VEVENT
END:VCALENDAR
