BEGIN:VCALENDAR
VERSION:2.0
PRODID:-//https://www.lecze-salezjanie.pl///DJ-Events//EN
BEGIN:VEVENT
SUMMARY:+ Marcin, Henryk, Robert Jeszke
UID:601@https://www.lecze-salezjanie.pl/
DTSTART:20220626T103000
DTEND:20220626T103000
DTSTAMP:20260420T034544
CATEGORIES:Msza święta
LOCATION:Suchacz 82-340 Kielecka 14
GEO:54.2856461944789;19.44132685661316
DESCRIPTION:
URL:https://www.lecze-salezjanie.pl//component/djevents/details/2022-06-26/601-marcin-henryk-robert-jeszke
END:VEVENT
END:VCALENDAR
