BEGIN:VCALENDAR
VERSION:2.0
PRODID:-//https://www.lecze-salezjanie.pl///DJ-Events//EN
BEGIN:VEVENT
SUMMARY:O zdrowie i nieustanną opiekę Matki Bożej Nieustającej Pomocy dla Charlotte
UID:642@https://www.lecze-salezjanie.pl/
DTSTART:20220627T180000
DTEND:20220627T180000
DTSTAMP:20260420T054633
CATEGORIES:Msza święta
LOCATION:Łęcze 82-340 Łęcze 48
GEO:54.2700545652713;19.468870040475466
DESCRIPTION:
URL:https://www.lecze-salezjanie.pl//component/djevents/details/2022-06-27/642-o-zdrowie-i-nieustanna-opieke-matki-bozej-nieustajacej-pomocy-dla-charlotte
END:VEVENT
END:VCALENDAR
