BEGIN:VCALENDAR
VERSION:2.0
PRODID:-//https://www.lecze-salezjanie.pl///DJ-Events//EN
BEGIN:VEVENT
SUMMARY:+ Teresa Paliwoda - Msza święta Gregoriańska (28)
UID:259@https://www.lecze-salezjanie.pl/
DTSTART:20220628T170000
DTEND:20220628T170000
DTSTAMP:20260420T035716
CATEGORIES:Msza święta
LOCATION:Suchacz 82-340 Kielecka 14
GEO:54.2856461944789;19.44132685661316
DESCRIPTION:
URL:https://www.lecze-salezjanie.pl//component/djevents/details/2022-06-28/259-teresa-paliwoda-msza-swieta-gregorianska-28
END:VEVENT
END:VCALENDAR
