BEGIN:VCALENDAR
VERSION:2.0
PRODID:-//https://www.lecze-salezjanie.pl///DJ-Events//EN
BEGIN:VEVENT
SUMMARY:+ Teresa Paliwoda - Msza święta Gregoriańska (29)
UID:260@https://www.lecze-salezjanie.pl/
DTSTART:20220629T180000
DTEND:20220629T180000
DTSTAMP:20260420T035716
CATEGORIES:Msza święta
LOCATION:Łęcze 82-340 Łęcze 48
GEO:54.2700545652713;19.468870040475466
DESCRIPTION:
URL:https://www.lecze-salezjanie.pl//component/djevents/details/2022-06-29/260-teresa-paliwoda-msza-swieta-gregorianska-29
END:VEVENT
END:VCALENDAR
