BEGIN:VCALENDAR
VERSION:2.0
PRODID:-//https://www.lecze-salezjanie.pl///DJ-Events//EN
BEGIN:VEVENT
SUMMARY:W intencji Koła Żywego Różańca
UID:516@https://www.lecze-salezjanie.pl/
DTSTART:20220702T180000
DTEND:20220702T180000
DTSTAMP:20260420T054251
CATEGORIES:Msza święta
LOCATION:Łęcze 82-340 Łęcze 48
GEO:54.2700545652713;19.468870040475466
DESCRIPTION:
URL:https://www.lecze-salezjanie.pl//component/djevents/details/2022-07-02/516-w-intencji-kola-zywego-rozanca-1
END:VEVENT
END:VCALENDAR
