BEGIN:VCALENDAR
VERSION:2.0
PRODID:-//https://www.lecze-salezjanie.pl///DJ-Events//EN
BEGIN:VEVENT
SUMMARY:Dziękczynna, z prośbą o Boże Błogosławieństwo i opiekę Matki Bożej na wakacje dla dzieci i wnuków Jadwigi Makarewicz
UID:602@https://www.lecze-salezjanie.pl/
DTSTART:20220703T090000
DTEND:20220703T090000
DTSTAMP:20260420T040720
CATEGORIES:Msza święta
LOCATION:Suchacz 82-340 Kielecka 14
GEO:54.2856461944789;19.44132685661316
DESCRIPTION:
URL:https://www.lecze-salezjanie.pl//component/djevents/details/2022-07-03/602-dziekczynna-z-prosba-o-boze-blogoslawienstwo-i-opieke-matki-bozej-na-wakacje-dla-dzieci-i-wnukow-jadwigi-makarewicz
END:VEVENT
END:VCALENDAR
