BEGIN:VCALENDAR
VERSION:2.0
PRODID:-//https://www.lecze-salezjanie.pl///DJ-Events//EN
BEGIN:VEVENT
SUMMARY:+ Ryszard, Jan, Jadwiga, Tadeusz, Stanisław i z rodziny Matysiaków i Wrześniewskich
UID:631@https://www.lecze-salezjanie.pl/
DTSTART:20220703T103000
DTEND:20220703T103000
DTSTAMP:20260420T040553
CATEGORIES:Msza święta
LOCATION:Suchacz 82-340 Kielecka 14
GEO:54.2856461944789;19.44132685661316
DESCRIPTION:
URL:https://www.lecze-salezjanie.pl//component/djevents/details/2022-07-03/631-ryszard-jan-jadwiga-tadeusz-stanislaw-i-z-rodziny-matysiakow-i-wrzesniewskich
END:VEVENT
END:VCALENDAR
