BEGIN:VCALENDAR
VERSION:2.0
PRODID:-//https://www.lecze-salezjanie.pl///DJ-Events//EN
BEGIN:VEVENT
SUMMARY:+ Tadeusz Lejmanowicz - w 30 rocznicę śmierci
UID:560@https://www.lecze-salezjanie.pl/
DTSTART:20220704T180000
DTEND:20220704T180000
DTSTAMP:20260420T021212
CATEGORIES:Msza święta
LOCATION:Łęcze 82-340 Łęcze 48
GEO:54.2700545652713;19.468870040475466
DESCRIPTION:
URL:https://www.lecze-salezjanie.pl//component/djevents/details/2022-07-04/560-tadeusz-lejmanowicz-w-30-rocznice-smierci
END:VEVENT
END:VCALENDAR
