BEGIN:VCALENDAR
VERSION:2.0
PRODID:-//https://www.lecze-salezjanie.pl///DJ-Events//EN
BEGIN:VEVENT
SUMMARY:O dary Bożej Miłości, szczęśliwe rozwiązanie i zdrowie dla Izy, dziecka i Łukasza Pankiewicz
UID:264@https://www.lecze-salezjanie.pl/
DTSTART:20220706T180000
DTEND:20220706T180000
DTSTAMP:20260420T040144
CATEGORIES:Msza święta
LOCATION:Łęcze 82-340 Łęcze 48
GEO:54.2700545652713;19.468870040475466
DESCRIPTION:
URL:https://www.lecze-salezjanie.pl//component/djevents/details/2022-07-06/264-o-dary-bozej-milosci-szczesliwe-rozwiazanie-i-zdrowie-dla-izy-dziecka-i-lukasza-pankiewicz
END:VEVENT
END:VCALENDAR
