BEGIN:VCALENDAR
VERSION:2.0
PRODID:-//https://www.lecze-salezjanie.pl///DJ-Events//EN
BEGIN:VEVENT
SUMMARY:Dziękczynna za otrzymane łaski w roku szkolnym, z prośbą o Boże Błogosławieństwo i opiekę Matki Bożej na czas wakacji dla dzieci i wnuków
UID:580@https://www.lecze-salezjanie.pl/
DTSTART:20220708T180000
DTEND:20220708T180000
DTSTAMP:20260420T040203
CATEGORIES:Msza święta
LOCATION:Łęcze 82-340 Łęcze 48
GEO:54.2700545652713;19.468870040475466
DESCRIPTION:
URL:https://www.lecze-salezjanie.pl//component/djevents/details/2022-07-08/580-dziekczynna-za-otrzymane-laski-w-roku-szkolnym-z-prosba-o-boze-blogoslawienstwo-i-opieke-matki-bozej-na-czas-wakacji-dla-dzieci-i-wnukow
END:VEVENT
END:VCALENDAR
