BEGIN:VCALENDAR
VERSION:2.0
PRODID:-//https://www.lecze-salezjanie.pl///DJ-Events//EN
BEGIN:VEVENT
SUMMARY:+ Irena Listkowska - w 6 rocznicę śmierci
UID:265@https://www.lecze-salezjanie.pl/
DTSTART:20220709T180000
DTEND:20220709T180000
DTSTAMP:20260420T021332
CATEGORIES:Msza święta
LOCATION:Łęcze 82-340 Łęcze 48
GEO:54.2700545652713;19.468870040475466
DESCRIPTION:
URL:https://www.lecze-salezjanie.pl//component/djevents/details/2022-07-09/265-irena-listkowska-w-6-rocznice-smierci
END:VEVENT
END:VCALENDAR
