BEGIN:VCALENDAR
VERSION:2.0
PRODID:-//https://www.lecze-salezjanie.pl///DJ-Events//EN
BEGIN:VEVENT
SUMMARY:+ Leon Banaszek - w 37 rocznicę śmierci oraz Henryka i wszyscy zmarli z rodziny Banaszków
UID:267@https://www.lecze-salezjanie.pl/
DTSTART:20220710T120000
DTEND:20220710T120000
DTSTAMP:20260420T003216
CATEGORIES:Msza święta
LOCATION:Łęcze 82-340 Łęcze 48
GEO:54.2700545652713;19.468870040475466
DESCRIPTION:
URL:https://www.lecze-salezjanie.pl//component/djevents/details/2022-07-10/267-leon-banaszek-w-37-rocznice-smierci-oraz-henryka-i-wszyscy-zmarli-z-rodziny-banaszkow
END:VEVENT
END:VCALENDAR
