BEGIN:VCALENDAR
VERSION:2.0
PRODID:-//https://www.lecze-salezjanie.pl///DJ-Events//EN
BEGIN:VEVENT
SUMMARY:+ Grzegorz Podlaszewski - w 1 miesiąc po śmierci
UID:627@https://www.lecze-salezjanie.pl/
DTSTART:20220711T180000
DTEND:20220711T180000
DTSTAMP:20260420T002844
CATEGORIES:Msza święta
LOCATION:Łęcze 82-340 Łęcze 48
GEO:54.2700545652713;19.468870040475466
DESCRIPTION:
URL:https://www.lecze-salezjanie.pl//component/djevents/details/2022-07-11/627-grzegorz-podlaszewski-w-1-miesiac-po-smierci
END:VEVENT
END:VCALENDAR
