BEGIN:VCALENDAR
VERSION:2.0
PRODID:-//https://www.lecze-salezjanie.pl///DJ-Events//EN
BEGIN:VEVENT
SUMMARY:Dziękczynna za otrzymane łaski, z prośbą o Boże Błogosławieństwo i opiekę Matki Bożej dla rodziny Kuszyk i Henschke
UID:677@https://www.lecze-salezjanie.pl/
DTSTART:20220713T180000
DTEND:20220713T180000
DTSTAMP:20260420T003330
CATEGORIES:Msza święta
LOCATION:Łęcze 82-340 Łęcze 48
GEO:54.2700545652713;19.468870040475466
DESCRIPTION:
URL:https://www.lecze-salezjanie.pl//component/djevents/details/2022-07-13/677-dziekczynna-za-otrzymane-laski-z-prosba-o-boze-blogoslawienstwo-i-opieke-matki-bozej-dla-rodziny-kuszyk-i-henschke
END:VEVENT
END:VCALENDAR
