BEGIN:VCALENDAR
VERSION:2.0
PRODID:-//https://www.lecze-salezjanie.pl///DJ-Events//EN
BEGIN:VEVENT
SUMMARY:Dziękczynna za 50 lat małżeństwa, o zdrowie, opiekę Matki Bożej, z prośbą o Błogosławieństwo Boże na dalsze lata życia dla Zofii i Kazimierza, także dla dzieci i ich rodzin
UID:651@https://www.lecze-salezjanie.pl/
DTSTART:20220714T170000
DTEND:20220714T170000
DTSTAMP:20260420T003415
CATEGORIES:Msza święta
LOCATION:Suchacz 82-340 Kielecka 14
GEO:54.2856461944789;19.44132685661316
DESCRIPTION:
URL:https://www.lecze-salezjanie.pl//component/djevents/details/2022-07-14/651-dziekczynna-za-50-lat-malzenstwa-o-zdrowie-opieke-matki-bozej-z-prosba-o-blogoslawienstwo-boze-na-dalsze-lata-zycia-dla-zofii-i-kazimierza-takze-dla-dzieci-i-ich-rodzin
END:VEVENT
END:VCALENDAR
