BEGIN:VCALENDAR
VERSION:2.0
PRODID:-//https://www.lecze-salezjanie.pl///DJ-Events//EN
BEGIN:VEVENT
SUMMARY:+ Anna Hornof - w 12 rocznicę śmierci i zmarli z rodziny
UID:646@https://www.lecze-salezjanie.pl/
DTSTART:20220715T180000
DTEND:20220715T180000
DTSTAMP:20260420T003155
CATEGORIES:Msza święta
LOCATION:Łęcze 82-340 Łęcze 48
GEO:54.2700545652713;19.468870040475466
DESCRIPTION:
URL:https://www.lecze-salezjanie.pl//component/djevents/details/2022-07-15/646-anna-hornof-w-12-rocznice-smierci-i-zmarli-z-rodziny
END:VEVENT
END:VCALENDAR
