BEGIN:VCALENDAR
VERSION:2.0
PRODID:-//https://www.lecze-salezjanie.pl///DJ-Events//EN
BEGIN:VEVENT
SUMMARY:+ Stanisław i Patrycjusz Kuszyk
UID:678@https://www.lecze-salezjanie.pl/
DTSTART:20220716T180000
DTEND:20220716T180000
DTSTAMP:20260420T002759
CATEGORIES:Msza święta
LOCATION:Łęcze 82-340 Łęcze 48
GEO:54.2700545652713;19.468870040475466
DESCRIPTION:
URL:https://www.lecze-salezjanie.pl//component/djevents/details/2022-07-16/678-stanislaw-i-patrycjusz-kuszyk
END:VEVENT
END:VCALENDAR
