BEGIN:VCALENDAR
VERSION:2.0
PRODID:-//https://www.lecze-salezjanie.pl///DJ-Events//EN
BEGIN:VEVENT
SUMMARY:Dziękczynna, z prośbą o Boże Błogosławieństwo i opiekę Matki Bożej dla Ireny i Mariana Grudzińskich z okazji 50 rocznicy ślubu
UID:465@https://www.lecze-salezjanie.pl/
DTSTART:20220717T103000
DTEND:20220717T103000
DTSTAMP:20260419T224855
CATEGORIES:Msza święta
LOCATION:Suchacz 82-340 Kielecka 14
GEO:54.2856461944789;19.44132685661316
DESCRIPTION:
URL:https://www.lecze-salezjanie.pl//component/djevents/details/2022-07-17/465-dziekczynna-z-prosba-o-boze-blogoslawienstwo-i-opieke-matki-bozej-dla-ireny-i-mariana-grudzinskich-z-okazji-50-rocznicy-slubu
END:VEVENT
END:VCALENDAR
