BEGIN:VCALENDAR
VERSION:2.0
PRODID:-//https://www.lecze-salezjanie.pl///DJ-Events//EN
BEGIN:VEVENT
SUMMARY:+ Alfred Gruchalski i za zmarłych rodziców z obojga stron
UID:518@https://www.lecze-salezjanie.pl/
DTSTART:20220717T090000
DTEND:20220717T090000
DTSTAMP:20260419T225430
CATEGORIES:Msza święta
LOCATION:Łęcze 82-340 Łęcze 48
GEO:54.2700545652713;19.468870040475466
DESCRIPTION:
URL:https://www.lecze-salezjanie.pl//component/djevents/details/2022-07-17/518-alfred-gruchalski-i-za-zmarlych-rodzicow-z-obojga-stron
END:VEVENT
END:VCALENDAR
